BEGIN:VCALENDAR
VERSION:2.0
PRODID:-// - ECPv6.15.20//NONSGML v1.0//EN
CALSCALE:GREGORIAN
METHOD:PUBLISH
X-ORIGINAL-URL:https://myaccurateswimtiming.com
X-WR-CALDESC:Events for 
REFRESH-INTERVAL;VALUE=DURATION:PT1H
X-Robots-Tag:noindex
X-PUBLISHED-TTL:PT1H
BEGIN:VTIMEZONE
TZID:America/New_York
BEGIN:DAYLIGHT
TZOFFSETFROM:-0500
TZOFFSETTO:-0400
TZNAME:EDT
DTSTART:20240310T070000
END:DAYLIGHT
BEGIN:STANDARD
TZOFFSETFROM:-0400
TZOFFSETTO:-0500
TZNAME:EST
DTSTART:20241103T060000
END:STANDARD
BEGIN:DAYLIGHT
TZOFFSETFROM:-0500
TZOFFSETTO:-0400
TZNAME:EDT
DTSTART:20250309T070000
END:DAYLIGHT
BEGIN:STANDARD
TZOFFSETFROM:-0400
TZOFFSETTO:-0500
TZNAME:EST
DTSTART:20251102T060000
END:STANDARD
BEGIN:DAYLIGHT
TZOFFSETFROM:-0500
TZOFFSETTO:-0400
TZNAME:EDT
DTSTART:20260308T070000
END:DAYLIGHT
BEGIN:STANDARD
TZOFFSETFROM:-0400
TZOFFSETTO:-0500
TZNAME:EST
DTSTART:20261101T060000
END:STANDARD
END:VTIMEZONE
BEGIN:VEVENT
DTSTART;VALUE=DATE:20250906
DTEND;VALUE=DATE:20250907
DTSTAMP:20260422T134616
CREATED:20250815T015742Z
LAST-MODIFIED:20250924T012740Z
UID:4786-1757116800-1757203199@myaccurateswimtiming.com
SUMMARY:Pinellas County High School Relay Meet
DESCRIPTION:Event Information\n			\n			\n				\n				\n				\n				\n			\n				\n				\n				\n				\n				\n				\n				\n				\n				\n				\n				Results\n			\n				\n				\n				\n				\n				\nFinal Scores\nFinal Results\nMeet Results File
URL:https://myaccurateswimtiming.com/event/pinellas-county-high-schoo-relay-meet/
LOCATION:SOUTHWEST RECREATION COMPLEX\, 13120 Vonn Rd\, Largo\, FL\, 33774\, United States
END:VEVENT
BEGIN:VEVENT
DTSTART;VALUE=DATE:20250920
DTEND;VALUE=DATE:20250921
DTSTAMP:20260422T134616
CREATED:20250708T111404Z
LAST-MODIFIED:20250921T020908Z
UID:4469-1758326400-1758412799@myaccurateswimtiming.com
SUMMARY:2025 Heart of Florida Swim Meet
DESCRIPTION:Event Information\n			\n			\n				\n				\n				\n				\n			\n				\n				\n				\n				\n				\n				\n				\n				\n				\n				\n				Results\n			\n				\n				\n				\n				\n				\nFinal Results w DQ and NS\nIndividual High Point\nTeam Scores\nMeet Results-2025 Heart of Florida Swim Meet-20Sep2025-001 
URL:https://myaccurateswimtiming.com/event/2025-heart-of-florida-swim-meet/
LOCATION:Lake Eva Aquatic Center\, 321 S 6th St\, Haines City\, 33844\, United States
END:VEVENT
BEGIN:VEVENT
DTSTART;VALUE=DATE:20250921
DTEND;VALUE=DATE:20250922
DTSTAMP:20260422T134616
CREATED:20250815T015911Z
LAST-MODIFIED:20250921T204022Z
UID:4789-1758412800-1758499199@myaccurateswimtiming.com
SUMMARY:2nd Annual Rob Curry Pancake Pentathlon
DESCRIPTION:Event Information\n			\n			\n				\n				\n				\n				\n			\n				\n				\n				\n				\n				\n				\n				\n				\n				\n				\n				Results\n			\n				\n				\n				\n				\n				\nFinal Results\n\n\nMeet Results-2025 Rob Curry Pancake Pentathlon-21Sep2025-001
URL:https://myaccurateswimtiming.com/event/2nd-annual-rob-curry-pancake-pentathlon/
LOCATION:National Training Center\, 2150 Legends Way\, Clermont\, FL\, 34711\, United States
END:VEVENT
END:VCALENDAR