BEGIN:VCALENDAR
VERSION:2.0
PRODID:-// - ECPv6.15.20//NONSGML v1.0//EN
CALSCALE:GREGORIAN
METHOD:PUBLISH
X-ORIGINAL-URL:https://myaccurateswimtiming.com
X-WR-CALDESC:Events for 
REFRESH-INTERVAL;VALUE=DURATION:PT1H
X-Robots-Tag:noindex
X-PUBLISHED-TTL:PT1H
BEGIN:VTIMEZONE
TZID:America/New_York
BEGIN:DAYLIGHT
TZOFFSETFROM:-0500
TZOFFSETTO:-0400
TZNAME:EDT
DTSTART:20250309T070000
END:DAYLIGHT
BEGIN:STANDARD
TZOFFSETFROM:-0400
TZOFFSETTO:-0500
TZNAME:EST
DTSTART:20251102T060000
END:STANDARD
BEGIN:DAYLIGHT
TZOFFSETFROM:-0500
TZOFFSETTO:-0400
TZNAME:EDT
DTSTART:20260308T070000
END:DAYLIGHT
BEGIN:STANDARD
TZOFFSETFROM:-0400
TZOFFSETTO:-0500
TZNAME:EST
DTSTART:20261101T060000
END:STANDARD
BEGIN:DAYLIGHT
TZOFFSETFROM:-0500
TZOFFSETTO:-0400
TZNAME:EDT
DTSTART:20270314T070000
END:DAYLIGHT
BEGIN:STANDARD
TZOFFSETFROM:-0400
TZOFFSETTO:-0500
TZNAME:EST
DTSTART:20271107T060000
END:STANDARD
END:VTIMEZONE
BEGIN:VEVENT
DTSTART;VALUE=DATE:20260213
DTEND;VALUE=DATE:20260216
DTSTAMP:20260421T222132
CREATED:20260103T200115Z
LAST-MODIFIED:20260215T223620Z
UID:5442-1770940800-1771199999@myaccurateswimtiming.com
SUMMARY:Florida Winter Long Course Invitational
DESCRIPTION:Event Information\n			\n			\n				\n				\n				\n				\n			\n				\n				\n				\n				\n				\n				\n				\n				\n				\n				\n				Pre Meet Info\n			\n				\n				\n				\n				\n				\nMeet Packet\nVolunteer Sign-Up\nPsych Sheet\nTimeline \n\n			\n			\n				\n				\n				\n				\n				\n				\n				\n				\n				\n				Heat Sheets\n			\n				\n				\n				\n				\n				\nComplete Heat Sheet\nFriday Night\nSaturday Morning \nSaturday Night\nSunday Morning\n\n			\n			\n				\n				\n				\n				\n				\n				\n				\n				\n				\n				Results\n			\n				\n				\n				\n				\n				\nFriday Night\nSaturday Morning\nSaturday Evening\nSunday Morning\nFinal Results\nMeet Results-Zip \n(For Coaches)
URL:https://myaccurateswimtiming.com/event/florida-winter-long-course-invitational/
LOCATION:Rosen Aquatic & Fitness Center\, 8422 International Drive\, Orlando\, FL\, 32819\, United States
END:VEVENT
BEGIN:VEVENT
DTSTART;VALUE=DATE:20260218
DTEND;VALUE=DATE:20260222
DTSTAMP:20260421T222132
CREATED:20250905T014136Z
LAST-MODIFIED:20250905T014136Z
UID:4849-1771372800-1771718399@myaccurateswimtiming.com
SUMMARY:2026 ASUN Swimming & Diving Championships
DESCRIPTION:
URL:https://myaccurateswimtiming.com/event/2026-asun-swimming-diving-championships/
LOCATION:Rosen Aquatic & Fitness Center\, 8422 International Drive\, Orlando\, FL\, 32819\, United States
END:VEVENT
BEGIN:VEVENT
DTSTART;VALUE=DATE:20260221
DTEND;VALUE=DATE:20260223
DTSTAMP:20260421T222132
CREATED:20260111T055412Z
LAST-MODIFIED:20260223T002941Z
UID:5452-1771632000-1771804799@myaccurateswimtiming.com
SUMMARY:SLAC Last Chance to Dance Invitational
DESCRIPTION:Event Information\n			\n			\n				\n				\n				\n				\n			\n				\n				\n				\n				\n				\n				\n				\n				\n				\n				\n				Pre Meet Info\n			\n				\n				\n				\n				\n				\nMeet Letter\nEntry Report\nTimeline 2-19-26\nPsych Sheet\n\n			\n			\n				\n				\n				\n				\n				\n				\n				\n				\n				\n				Heat Sheets\n			\n				\n				\n				\n				\n				\nSaturday\nSunday w 400IM and 1000\n\n			\n			\n				\n				\n				\n				\n				\n				\n				\n				\n				\n				Results\n			\n				\n				\n				\n				\n				\nFinal Results\nTime Trial Results\nMeet Results-Zip
URL:https://myaccurateswimtiming.com/event/slac-last-chance-to-dance-invitational/
LOCATION:National Training Center\, 2150 Legends Way\, Clermont\, FL\, 34711\, United States
END:VEVENT
BEGIN:VEVENT
DTSTART;VALUE=DATE:20260312
DTEND;VALUE=DATE:20260316
DTSTAMP:20260421T222132
CREATED:20260303T044916Z
LAST-MODIFIED:20260323T223034Z
UID:5607-1773273600-1773619199@myaccurateswimtiming.com
SUMMARY:Florida Swimming Spring Senior Championships
DESCRIPTION:Event Information\n			\n			\n				\n				\n				\n				\n			\n				\n				\n				\n				\n				\n				\n				\n				\n				\n				\n				Results\n			\n				\n				\n				\n				\n				Final Results \nHigh Point \nTeam Scores \nMeet Results Zip (For Coaches)
URL:https://myaccurateswimtiming.com/event/florida-swimming-spring-senior-championships/
LOCATION:Rosen Aquatic & Fitness Center\, 8422 International Drive\, Orlando\, FL\, 32819\, United States
END:VEVENT
BEGIN:VEVENT
DTSTART;VALUE=DATE:20260317
DTEND;VALUE=DATE:20260322
DTSTAMP:20260421T222133
CREATED:20260317T005431Z
LAST-MODIFIED:20260317T005431Z
UID:5743-1773705600-1774137599@myaccurateswimtiming.com
SUMMARY:NCSA Spring Championships
DESCRIPTION:Meet Website
URL:https://myaccurateswimtiming.com/event/ncsa-spring-championships/
LOCATION:Rosen Aquatic & Fitness Center\, 8422 International Drive\, Orlando\, FL\, 32819\, United States
END:VEVENT
BEGIN:VEVENT
DTSTART;VALUE=DATE:20260325
DTEND;VALUE=DATE:20260329
DTSTAMP:20260421T222133
CREATED:20260317T005723Z
LAST-MODIFIED:20260317T005723Z
UID:5745-1774396800-1774742399@myaccurateswimtiming.com
SUMMARY:NCSA Spring Age Group Championships
DESCRIPTION:Meet Website
URL:https://myaccurateswimtiming.com/event/ncsa-spring-age-group-championships/
LOCATION:Rosen Aquatic & Fitness Center\, 8422 International Drive\, Orlando\, FL\, 32819\, United States
END:VEVENT
BEGIN:VEVENT
DTSTART;VALUE=DATE:20260418
DTEND;VALUE=DATE:20260419
DTSTAMP:20260421T222133
CREATED:20260317T010941Z
LAST-MODIFIED:20260414T122028Z
UID:5750-1776470400-1776556799@myaccurateswimtiming.com
SUMMARY:BMAC Spring Challenge
DESCRIPTION:Meet Packet \nTeam Entries \nPsych Sheet \nEstimated Timeline
URL:https://myaccurateswimtiming.com/event/bmac-spring-challenge/
LOCATION:Rowdy Gaines Olympic Pool\, 210 Cypress Gardens Blvd\,\, Winter Haven\, FL\, 33880\, United States
END:VEVENT
BEGIN:VEVENT
DTSTART;VALUE=DATE:20260425
DTEND;VALUE=DATE:20260427
DTSTAMP:20260421T222133
CREATED:20260317T010235Z
LAST-MODIFIED:20260317T010235Z
UID:5747-1777075200-1777247999@myaccurateswimtiming.com
SUMMARY:Matt & Karen Hohne Memorial Invitational
DESCRIPTION:
URL:https://myaccurateswimtiming.com/event/matt-karen-hohne-memorial-invitational/
LOCATION:National Training Center\, 2150 Legends Way\, Clermont\, FL\, 34711\, United States
END:VEVENT
END:VCALENDAR