BEGIN:VCALENDAR
VERSION:2.0
PRODID:-// - ECPv6.15.20//NONSGML v1.0//EN
CALSCALE:GREGORIAN
METHOD:PUBLISH
X-ORIGINAL-URL:https://myaccurateswimtiming.com
X-WR-CALDESC:Events for 
REFRESH-INTERVAL;VALUE=DURATION:PT1H
X-Robots-Tag:noindex
X-PUBLISHED-TTL:PT1H
BEGIN:VTIMEZONE
TZID:America/New_York
BEGIN:DAYLIGHT
TZOFFSETFROM:-0500
TZOFFSETTO:-0400
TZNAME:EDT
DTSTART:20250309T070000
END:DAYLIGHT
BEGIN:STANDARD
TZOFFSETFROM:-0400
TZOFFSETTO:-0500
TZNAME:EST
DTSTART:20251102T060000
END:STANDARD
BEGIN:DAYLIGHT
TZOFFSETFROM:-0500
TZOFFSETTO:-0400
TZNAME:EDT
DTSTART:20260308T070000
END:DAYLIGHT
BEGIN:STANDARD
TZOFFSETFROM:-0400
TZOFFSETTO:-0500
TZNAME:EST
DTSTART:20261101T060000
END:STANDARD
BEGIN:DAYLIGHT
TZOFFSETFROM:-0500
TZOFFSETTO:-0400
TZNAME:EDT
DTSTART:20270314T070000
END:DAYLIGHT
BEGIN:STANDARD
TZOFFSETFROM:-0400
TZOFFSETTO:-0500
TZNAME:EST
DTSTART:20271107T060000
END:STANDARD
END:VTIMEZONE
BEGIN:VEVENT
DTSTART;VALUE=DATE:20260221
DTEND;VALUE=DATE:20260223
DTSTAMP:20260421T071825
CREATED:20260111T055412Z
LAST-MODIFIED:20260223T002941Z
UID:5452-1771632000-1771804799@myaccurateswimtiming.com
SUMMARY:SLAC Last Chance to Dance Invitational
DESCRIPTION:Event Information\n			\n			\n				\n				\n				\n				\n			\n				\n				\n				\n				\n				\n				\n				\n				\n				\n				\n				Pre Meet Info\n			\n				\n				\n				\n				\n				\nMeet Letter\nEntry Report\nTimeline 2-19-26\nPsych Sheet\n\n			\n			\n				\n				\n				\n				\n				\n				\n				\n				\n				\n				Heat Sheets\n			\n				\n				\n				\n				\n				\nSaturday\nSunday w 400IM and 1000\n\n			\n			\n				\n				\n				\n				\n				\n				\n				\n				\n				\n				Results\n			\n				\n				\n				\n				\n				\nFinal Results\nTime Trial Results\nMeet Results-Zip
URL:https://myaccurateswimtiming.com/event/slac-last-chance-to-dance-invitational/
LOCATION:National Training Center\, 2150 Legends Way\, Clermont\, FL\, 34711\, United States
END:VEVENT
END:VCALENDAR