BEGIN:VCALENDAR
VERSION:2.0
PRODID:-// - ECPv6.15.20//NONSGML v1.0//EN
CALSCALE:GREGORIAN
METHOD:PUBLISH
X-ORIGINAL-URL:https://myaccurateswimtiming.com
X-WR-CALDESC:Events for 
REFRESH-INTERVAL;VALUE=DURATION:PT1H
X-Robots-Tag:noindex
X-PUBLISHED-TTL:PT1H
BEGIN:VTIMEZONE
TZID:America/New_York
BEGIN:DAYLIGHT
TZOFFSETFROM:-0500
TZOFFSETTO:-0400
TZNAME:EDT
DTSTART:20240310T070000
END:DAYLIGHT
BEGIN:STANDARD
TZOFFSETFROM:-0400
TZOFFSETTO:-0500
TZNAME:EST
DTSTART:20241103T060000
END:STANDARD
BEGIN:DAYLIGHT
TZOFFSETFROM:-0500
TZOFFSETTO:-0400
TZNAME:EDT
DTSTART:20250309T070000
END:DAYLIGHT
BEGIN:STANDARD
TZOFFSETFROM:-0400
TZOFFSETTO:-0500
TZNAME:EST
DTSTART:20251102T060000
END:STANDARD
BEGIN:DAYLIGHT
TZOFFSETFROM:-0500
TZOFFSETTO:-0400
TZNAME:EDT
DTSTART:20260308T070000
END:DAYLIGHT
BEGIN:STANDARD
TZOFFSETFROM:-0400
TZOFFSETTO:-0500
TZNAME:EST
DTSTART:20261101T060000
END:STANDARD
END:VTIMEZONE
BEGIN:VEVENT
DTSTART;VALUE=DATE:20251204
DTEND;VALUE=DATE:20251208
DTSTAMP:20260422T103346
CREATED:20250321T115633Z
LAST-MODIFIED:20251208T012642Z
UID:3969-1764806400-1765151999@myaccurateswimtiming.com
SUMMARY:RAFC Winter Classic
DESCRIPTION:Event Information\n			\n			\n				\n				\n				\n				\n			\n				\n				\n				\n				\n				\n				\n				\n				\n				\n				\n				Final Results\n			\n				\n				\n				\n				\n				\nThursday Evening\nFriday Prelims\nFriday Afternoon Timed Finals\nFriday Finals\nSaturday Prelims\nSaturday Afternoon Timed Finals\nSaturday Finals\nSunday Prelims\nSunday Afternoon Timed Finals\nSunday Evening Finals\nComplete Final Results\nMeet Results-RAFC Winter Classic-04Dec2025-001  (Zip File for Coaches)\n\n			\n				\n				\n				\n				\n				High Point and Scores\n			\n				\n				\n				\n				\n				\nIndividual High Point\nTeam Scores
URL:https://myaccurateswimtiming.com/event/rafc-winter-classic-2/
LOCATION:Rosen Aquatic & Fitness Center\, 8422 International Drive\, Orlando\, FL\, 32819\, United States
END:VEVENT
END:VCALENDAR