BEGIN:VCALENDAR
VERSION:2.0
PRODID:-// - ECPv6.15.20//NONSGML v1.0//EN
CALSCALE:GREGORIAN
METHOD:PUBLISH
X-ORIGINAL-URL:https://myaccurateswimtiming.com
X-WR-CALDESC:Events for 
REFRESH-INTERVAL;VALUE=DURATION:PT1H
X-Robots-Tag:noindex
X-PUBLISHED-TTL:PT1H
BEGIN:VTIMEZONE
TZID:America/New_York
BEGIN:DAYLIGHT
TZOFFSETFROM:-0500
TZOFFSETTO:-0400
TZNAME:EDT
DTSTART:20240310T070000
END:DAYLIGHT
BEGIN:STANDARD
TZOFFSETFROM:-0400
TZOFFSETTO:-0500
TZNAME:EST
DTSTART:20241103T060000
END:STANDARD
BEGIN:DAYLIGHT
TZOFFSETFROM:-0500
TZOFFSETTO:-0400
TZNAME:EDT
DTSTART:20250309T070000
END:DAYLIGHT
BEGIN:STANDARD
TZOFFSETFROM:-0400
TZOFFSETTO:-0500
TZNAME:EST
DTSTART:20251102T060000
END:STANDARD
BEGIN:DAYLIGHT
TZOFFSETFROM:-0500
TZOFFSETTO:-0400
TZNAME:EDT
DTSTART:20260308T070000
END:DAYLIGHT
BEGIN:STANDARD
TZOFFSETFROM:-0400
TZOFFSETTO:-0500
TZNAME:EST
DTSTART:20261101T060000
END:STANDARD
END:VTIMEZONE
BEGIN:VEVENT
DTSTART;VALUE=DATE:20250724
DTEND;VALUE=DATE:20250728
DTSTAMP:20260422T180212
CREATED:20250321T115239Z
LAST-MODIFIED:20250728T234013Z
UID:3963-1753315200-1753660799@myaccurateswimtiming.com
SUMMARY:RAFC Last Splash
DESCRIPTION:Event Information\n			\n			\n				\n				\n				\n				\n			\n				\n				\n				\n				\n				\n				\n				\n				\n				\n				\n				Meet Information\n			\n				\n				\n				\n				\n				\nMeet Packet\nHy-Tek Entry File\n\nPsych Sheet V02     7-22-25 \n\nPreliminary Timeline\nLIVE STREAM LINK\n\n			\n			\n				\n				\n				\n				\n				\n				\n				\n				\n				\n				Final Results\n			\n				\n				\n				\n				\n				\nFinal Results\nMeet Results-2025 RAFC Last Splash Invitational-24Jul2025-001
URL:https://myaccurateswimtiming.com/event/rafc-last-splash/
LOCATION:Rosen Aquatic & Fitness Center\, 8422 International Drive\, Orlando\, FL\, 32819\, United States
END:VEVENT
END:VCALENDAR